BEGIN:VCALENDAR
VERSION:2.0
PRODID:-//ChamberMaster//Event Calendar 2.0//EN
METHOD:PUBLISH
X-PUBLISHED-TTL:P3D
REFRESH-INTERVAL:P3D
CALSCALE:GREGORIAN
BEGIN:VEVENT
DTSTART:20070426T220000Z
DTEND:20070427T000000Z
X-MICROSOFT-CDO-ALLDAYEVENT:FALSE
SUMMARY:Business After Hours: April 2007 Business After Hours
DESCRIPTION:While enjoying outstanding selections from their first class menu\, learn firsthand why Morton's is widely regarded as the nation's premiere steakhouse.  Learn more about private dining opportunities and specialties.  Be sure to bring plenty of business cards for networking and raffle prizes.   No charge for Chamber members\; $20 guests.  Guests must call to register.   Call  (847)498-5555 ext. 203 to register your attendance.
X-ALT-DESC;FMTTYPE=text/html:While enjoying outstanding selections from their first class menu\, learn firsthand why Morton's is widely regarded as the nation's premiere steakhouse.  Learn more about private dining opportunities and specialties.  Be sure to bring plenty of business cards for networking and raffle prizes.   No charge for Chamber members\; $20 guests.  Guests must call to register.   Call  (847)498-5555 ext. 203 to register your attendance.
LOCATION:
UID:e.355.246
SEQUENCE:3
DTSTAMP:20260425T134146Z
URL:https://business.northbrookchamber.org/events/details/business-after-hours-april-2007-business-after-hours-04-26-2007-246
END:VEVENT

END:VCALENDAR
