BEGIN:VCALENDAR
VERSION:2.0
PRODID:-//ChamberMaster//Event Calendar 2.0//EN
METHOD:PUBLISH
X-PUBLISHED-TTL:P3D
REFRESH-INTERVAL:P3D
CALSCALE:GREGORIAN
BEGIN:VEVENT
DTSTART:20090917T220000Z
DTEND:20090918T000000Z
X-MICROSOFT-CDO-ALLDAYEVENT:FALSE
SUMMARY:Business After Hours (9/09)
DESCRIPTION:Hosted by StrengthTime3073 Dundee Rd.Tour the new StrengthTime facility in the White Plains Shopping Center and learn more about their exercise philosophy and slow-movement training\, while networking with colleagues and enjoying refreshments. Bring plenty of business cards for networking and raffle prizes.
X-ALT-DESC;FMTTYPE=text/html:<div><span style="font-size: small"><span style="font-family: Arial">Hosted by </span><strong><span style="font-family: Arial">StrengthTime</span></strong></span></div><div><span style="font-size: small"><span style="font-family: Arial">3073 Dundee Rd.</span></span></div><div><span style="font-family: Arial"><span lang="EN"><p align="justify"><span style="font-size: small">Tour the new StrengthTime facility in the White Plains Shopping Center and learn more about their exercise philosophy and slow-movement training\, while networking with colleagues and enjoying refreshments. Bring plenty of business cards for networking and raffle prizes. </span></p></span></span><span lang="EN"><p align="justify"><span id="1250713071959E" style="display: none">&nbsp\;</span></p></span></div>
LOCATION:StrengthTime3073 Dundee Rd. (White Plaines Shopping Center)
UID:e.355.1238
SEQUENCE:3
DTSTAMP:20260422T170512Z
URL:https://business.northbrookchamber.org/events/details/business-after-hours-9-09-09-17-2009-1238
END:VEVENT

END:VCALENDAR
