BEGIN:VCALENDAR
VERSION:2.0
PRODID:-//ChamberMaster//Event Calendar 2.0//EN
METHOD:PUBLISH
X-PUBLISHED-TTL:P3D
REFRESH-INTERVAL:P3D
CALSCALE:GREGORIAN
BEGIN:VEVENT
DTSTART:20090819T220000Z
DTEND:20090820T000000Z
X-MICROSOFT-CDO-ALLDAYEVENT:FALSE
SUMMARY:Business After Hours (8/19)
DESCRIPTION:Hosted by Whitehall of DeerfieldEnjoy an evening of networking and live jazz music featuring the Grammy nominated Mike Frost Project\, with colleagues from the Lincolnshire and DBR Chambers. Tour the new Orthopedic Pavilion and learn all that Whitehall of Deerfield has to offer. Bring plenty of business cards for raffle prizes.
X-ALT-DESC;FMTTYPE=text/html:<div><span style="font-size: x-small"><span style="font-family: Arial"><em><strong>Hosted by Whitehall of Deerfield</strong></em></span></span></div><div><span style="font-size: x-small"><span style="font-family: Arial"><span lang="EN"><p align="justify">Enjoy an evening of networking and live jazz music featuring the Grammy nominated Mike Frost Project\, with colleagues from the Lincolnshire and DBR Chambers. Tour the new Orthopedic Pavilion and learn all that Whitehall of Deerfield has to offer. Bring plenty of business cards for raffle prizes.</p></span></span></span></div>
LOCATION:Whitehall of Deerfield300 Waukegan Rd.\, Deerfield
UID:e.355.1230
SEQUENCE:3
DTSTAMP:20260422T182313Z
URL:https://business.northbrookchamber.org/events/details/business-after-hours-8-19-08-19-2009-1230
END:VEVENT

END:VCALENDAR
