BEGIN:VCALENDAR
VERSION:2.0
PRODID:-//ChamberMaster//Event Calendar 2.0//EN
METHOD:PUBLISH
X-PUBLISHED-TTL:P3D
REFRESH-INTERVAL:P3D
CALSCALE:GREGORIAN
BEGIN:VEVENT
DTSTART:20090618T220000Z
DTEND:20090619T000000Z
X-MICROSOFT-CDO-ALLDAYEVENT:FALSE
SUMMARY:Business After Hours (6/18)
DESCRIPTION:Hosted by:  Therapeutic Kneads\n1779 Green Bay Rd.\, Ste. 102  Highland Park\n\nAt this relaxing After Hours\, kick off your shoes and learn more about some of the services and products to inspire wellness. Bring plenty of business cards for networking and for raffle prizes for free massages and products for de-stressing
X-ALT-DESC;FMTTYPE=text/html:<div><span lang="EN"><p align="justify"><font size="2"><em><font size="1">Hosted by:</font></em>&nbsp\; <strong>Therapeutic Kneads</strong><br />1779 Green Bay Rd.\, Ste. 102&nbsp\; Highland Park<br /><br />At this relaxing After Hours\, kick off your shoes and learn more about some of the services and products to inspire wellness. Bring plenty of business cards for networking and for raffle prizes for free massages and products for de-stressing</font></p></span></div>
LOCATION:Therapeutic Kneads 1779 Green Bay Rd.\, Ste. 102 Highland Park
UID:e.355.1213
SEQUENCE:3
DTSTAMP:20260422T204455Z
URL:https://business.northbrookchamber.org/events/details/business-after-hours-6-18-06-18-2009-1213
END:VEVENT

END:VCALENDAR
