BEGIN:VCALENDAR
VERSION:2.0
PRODID:-//ChamberMaster//Event Calendar 2.0//EN
METHOD:PUBLISH
X-PUBLISHED-TTL:P3D
REFRESH-INTERVAL:P3D
CALSCALE:GREGORIAN
BEGIN:VEVENT
DTSTART:20090519T220000Z
DTEND:20090520T000000Z
X-MICROSOFT-CDO-ALLDAYEVENT:FALSE
SUMMARY:Business After Hours (5/19)
DESCRIPTION:Business After Hours  - Autohaus on Edens\nTuesday\, May 19 Autohaus on Edens will host members at their state of the art showroom and treat guests to appetizers and a wine tasting\, while checking out the latest models.  Members attending will receive special finance and lease rates on new or certified pre-owned Mercedes Benz vehicles.  Bring plenty of business cards for networking and a chance to win a certificate good for a year of unlimited car washes.
X-ALT-DESC;FMTTYPE=text/html:<div><strong><font size="3">Business After Hours&nbsp\; - Autohaus on Edens<br />Tuesday\, May 19</font></strong></div><div>&nbsp\;</div><div>Autohaus on Edens will host members at their state of the art showroom and treat guests to appetizers and a wine tasting\, while checking out the latest models.&nbsp\; Members attending will receive special finance and lease rates on new or certified pre-owned Mercedes Benz vehicles.&nbsp\; Bring plenty of business cards for networking and a chance to win a certificate good for a year of unlimited car washes.</div>
LOCATION:Autohaus on Edens 1600 Frontage Road
UID:e.355.1206
SEQUENCE:3
DTSTAMP:20260424T084320Z
URL:https://business.northbrookchamber.org/events/details/business-after-hours-5-19-05-19-2009-1206
END:VEVENT

END:VCALENDAR
