BEGIN:VCALENDAR
VERSION:2.0
PRODID:-//ChamberMaster//Event Calendar 2.0//EN
METHOD:PUBLISH
X-PUBLISHED-TTL:P3D
REFRESH-INTERVAL:P3D
CALSCALE:GREGORIAN
BEGIN:VEVENT
DTSTART:20260521T220000Z
DTEND:20260522T000000Z
X-MICROSOFT-CDO-ALLDAYEVENT:FALSE
SUMMARY:Business After Hours
DESCRIPTION:Join us for a delicious After Hours hosted by local favorite Max and Benny's! Now celebrating its 40th year\, this Northbrook restaurant is famous for its classic deli menu as well as its welcoming spaces for private events. Enjoy great networking as we sample Max and Benny's specialties!
X-ALT-DESC;FMTTYPE=text/html:Join us for a delicious After Hours hosted by local favorite Max and Benny&#39\;s! Now celebrating its 40th year\, this Northbrook restaurant is famous for its classic deli menu as well as its welcoming spaces for private events. Enjoy great networking as we sample Max and Benny&#39\;s specialties!
LOCATION:Max and Benny's Restaurant\, Deli & Catering 461 Waukegan Road\, Northbrook
UID:e.355.4970
SEQUENCE:3
DTSTAMP:20260423T011201Z
URL:https://business.northbrookchamber.org/events/details/business-after-hours-4970
END:VEVENT

END:VCALENDAR
