BEGIN:VCALENDAR
VERSION:2.0
PRODID:-//ChamberMaster//Event Calendar 2.0//EN
METHOD:PUBLISH
X-PUBLISHED-TTL:P3D
REFRESH-INTERVAL:P3D
CALSCALE:GREGORIAN
BEGIN:VEVENT
DTSTART:20240118T230000Z
DTEND:20240119T010000Z
X-MICROSOFT-CDO-ALLDAYEVENT:FALSE
SUMMARY:Business After Hours
DESCRIPTION:A great year of After Hours fun kicks off at the Sheraton Chicago - Northbrook. Enjoy a night of networking with fellow members at this hidden gem of an event space! Come meet their team and enjoy delicious appetizers\, beverages\, and a raffle drawing!\n\n \n\nFully updated\, the Sheraton offers exceptional lodging and meeting amenities all conveniently located near the Willow Festival Shopping Center.
X-ALT-DESC;FMTTYPE=text/html:<span style="font-size: 10.5pt\; font-family: Arial\, sans-serif\; color: black\; background-image: initial\; background-position: initial\; background-size: initial\; background-repeat: initial\; background-attachment: initial\; background-origin: initial\; background-clip: initial\;">A great year of After Hours fun kicks off at the Sheraton Chicago - Northbrook. Enjoy a night of networking with fellow members at this hidden gem of an event space! Come meet their team and enjoy delicious appetizers\, beverages\, and a raffle drawing!</span><br />\n<span style="font-size: 10pt\; font-family: Arial\, sans-serif\;"><span style="background-image: initial\; background-position: initial\; background-size: initial\; background-repeat: initial\; background-attachment: initial\; background-origin: initial\; background-clip: initial\;">&nbsp\;</span></span><br />\n<span style="font-size: 10.5pt\; font-family: Arial\, sans-serif\; color: black\; background-image: initial\; background-position: initial\; background-size: initial\; background-repeat: initial\; background-attachment: initial\; background-origin: initial\; background-clip: initial\;">Fully updated\, the Sheraton offers exceptional lodging and meeting amenities all conveniently located near the Willow Festival Shopping Center.</span>
LOCATION:Sheraton Chicago Northbrook 1110 Willow Rd.\, Northbrook
UID:e.355.4464
SEQUENCE:3
DTSTAMP:20260426T024920Z
URL:https://business.northbrookchamber.org/events/details/business-after-hours-4464
END:VEVENT

END:VCALENDAR
