BEGIN:VCALENDAR
VERSION:2.0
PRODID:-//ChamberMaster//Event Calendar 2.0//EN
METHOD:PUBLISH
X-PUBLISHED-TTL:P3D
REFRESH-INTERVAL:P3D
CALSCALE:GREGORIAN
BEGIN:VEVENT
DTSTART:20090416T220000Z
DTEND:20090417T000000Z
X-MICROSOFT-CDO-ALLDAYEVENT:FALSE
SUMMARY:Business After Hours (4/16)
DESCRIPTION:With a theme of "Think Spring" the Sheraton chefs will pull out all the stops\, serving Lolli pop lamb chops\, seared scallops\, a variety of deserts and pineapple martinis. There will be plenty of opportunities to network while learning about the many amenities of Northbrook's newest hotel. Be sure to bring plenty of business cards for networking and raffle prizes\, including hotel stays.
X-ALT-DESC;FMTTYPE=text/html:<div><span lang="EN"><p align="justify"><font size="2">With a theme of &quot\;Think Spring&quot\; the Sheraton chefs will pull out all the stops\, serving Lolli pop lamb chops\, seared scallops\, a variety of deserts and pineapple martinis. There will be plenty of opportunities to network while learning about the many amenities of Northbrook&rsquo\;s newest hotel. Be sure to bring plenty of business cards for networking and raffle prizes\, including hotel stays.</font></p></span></div>
LOCATION:Sheraton Northbrook 1110 Willow Rd.
UID:e.355.1146
SEQUENCE:3
DTSTAMP:20260424T092448Z
URL:https://business.northbrookchamber.org/events/details/business-after-hours-4-16-04-16-2009-1146
END:VEVENT

END:VCALENDAR
