BEGIN:VCALENDAR
VERSION:2.0
PRODID:-//ChamberMaster//Event Calendar 2.0//EN
METHOD:PUBLISH
X-PUBLISHED-TTL:P3D
REFRESH-INTERVAL:P3D
CALSCALE:GREGORIAN
BEGIN:VEVENT
DTSTART:20100318T220000Z
DTEND:20100319T000000Z
X-MICROSOFT-CDO-ALLDAYEVENT:FALSE
SUMMARY:Business After Hours (3/2010)
DESCRIPTION:Hosted by:North Suburban YMCANorthbrook Rotary Learn more about two Northbrook community resources at this After Hours. Tour the Y facilities and learn about their many programs\, and learn about the many important ways Rotary supports the community. Bring plenty of business cards for networking and to win a raffle prize\, including a Y membership.
X-ALT-DESC;FMTTYPE=text/html:<div><span style="color: #333300"><span style="font-size: small"><span style="font-family: Arial">Hosted by:</span></span></span></div><div><span style="font-family: Tahoma"><strong><span style="color: #333300"><span style="font-size: small">North Suburban YMCA</span></span></strong></span></div><div><span style="font-family: Tahoma"><strong><span style="color: #333300"><span style="font-size: small">Northbrook Rotary</span></span></strong></span></div><div>&nbsp\;</div><div><span style="font-size: small"><span style="font-family: Arial"><div style="margin: 0in 0in 0pt">Learn more about two Northbrook community resources at this After Hours.&nbsp\;Tour the Y facilities and learn about their many programs\, and learn about the many important ways Rotary supports the community.&nbsp\;Bring plenty of business cards for networking and to win a raffle prize\, including a Y membership.</div></span></span><span style="font-family: Arial"><div style="margin: 0in 0in 0pt">&nbsp\;</div></span><span style="font-family: Arial"><div style="margin: 0in 0in 0pt"><span id="1266515227226E" style="display: none">&nbsp\;</span></div></span></div>
LOCATION:North Suburban YMCA2705 Techny Rd.
UID:e.355.1266
SEQUENCE:3
DTSTAMP:20260420T080936Z
URL:https://business.northbrookchamber.org/events/details/business-after-hours-3-2010-03-18-2010-1266
END:VEVENT

END:VCALENDAR
