BEGIN:VCALENDAR
VERSION:2.0
PRODID:-//ChamberMaster//Event Calendar 2.0//EN
METHOD:PUBLISH
X-PUBLISHED-TTL:P3D
REFRESH-INTERVAL:P3D
CALSCALE:GREGORIAN
BEGIN:VEVENT
DTSTART:20100218T230000Z
DTEND:20100219T010000Z
X-MICROSOFT-CDO-ALLDAYEVENT:FALSE
SUMMARY:Business After Hours (2/2010)
DESCRIPTION:Hosted by Chestnut Square at the Glen Learn more about the many amenities at the elegant\, Prairie style retirement community\, which include a caf \, library and fitness center\, while enjoying cocktails and appetizers. Valet parking will be available. Bring plenty of business cards for networking and for a chance to win a raffle prize.
X-ALT-DESC;FMTTYPE=text/html:<div><div style="margin: 0in 0in 0pt"><strong><em><span style="font-size: small"><span style="font-family: Arial">Hosted by Chestnut Square at the Glen</span></span></em></strong></div><div style="margin: 0in 0in 0pt">&nbsp\;</div><div style="margin: 0in 0in 0pt"><span style="font-size: small"><span style="font-family: Arial">Learn more about the many amenities at the elegant\, Prairie style retirement community\, which include a caf&eacute\;\, library and fitness center\, while enjoying cocktails and appetizers.&nbsp\;Valet parking will be available.&nbsp\;Bring plenty of business cards for networking and for a chance to win a raffle prize.</span></span></div></div>
LOCATION:Chestnut Square at The Glen2601 Chestnut\, Glenview
UID:e.355.1260
SEQUENCE:3
DTSTAMP:20260422T101016Z
URL:https://business.northbrookchamber.org/events/details/business-after-hours-2-2010-02-18-2010-1260
END:VEVENT

END:VCALENDAR
