BEGIN:VCALENDAR
VERSION:2.0
PRODID:-//ChamberMaster//Event Calendar 2.0//EN
METHOD:PUBLISH
X-PUBLISHED-TTL:P3D
REFRESH-INTERVAL:P3D
CALSCALE:GREGORIAN
BEGIN:VEVENT
DTSTART:20081218T230000Z
DTEND:20081219T010000Z
X-MICROSOFT-CDO-ALLDAYEVENT:FALSE
SUMMARY:Business After Hours
DESCRIPTION:Join us for the Chamber's Annual Holiday Business After Hours\, hosted by Mission Hills Country Club.  Enjoy plenty of appetizers and drinks with fellow members. Bring plenty of business cards for networking and for a chance to win raffle prizes\, including gift certificates to the restaurant.
X-ALT-DESC;FMTTYPE=text/html:<p><font size="2">Join us for the Chamber&rsquo\;s Annual Holiday Business After Hours\, hosted by Mission Hills Country&nbsp\;Club. &nbsp\;Enjoy plenty of appetizers and drinks with fellow members. Bring plenty of business cards for networking and for a chance to win raffle prizes\, including gift certificates to the restaurant.</font></p>
LOCATION:Mission HIlls Country Club1677 Mission Hills Rd.
UID:e.355.763
SEQUENCE:3
DTSTAMP:20260424T135630Z
URL:https://business.northbrookchamber.org/events/details/business-after-hours-12-18-2008-763
END:VEVENT

END:VCALENDAR
