BEGIN:VCALENDAR
VERSION:2.0
PRODID:-//ChamberMaster//Event Calendar 2.0//EN
METHOD:PUBLISH
X-PUBLISHED-TTL:P3D
REFRESH-INTERVAL:P3D
CALSCALE:GREGORIAN
BEGIN:VEVENT
DTSTART:20091119T230000Z
DTEND:20091120T010000Z
X-MICROSOFT-CDO-ALLDAYEVENT:FALSE
SUMMARY:Business After Hours (11/2009)
DESCRIPTION:An Italian Seafood Restaurant\, Di Pescara features fresh seafood\, homemade Italian dishes and prime steaks. Members of the Chamber are invited to this month Business After Hours to learn more about the private dining options for special occasions while sampling items from their new bar menue as well as their lunch and dinner menu. Bring plenty of business cards for networking and for raffle prizes.
X-ALT-DESC;FMTTYPE=text/html:<div><div style="margin: 0in 0in 0pt"><span style="font-size: small">An Italian Seafood Restaurant\, Di Pescara features fresh seafood\, homemade Italian dishes and prime steaks. Members of the Chamber are invited to this month Business After Hours to learn more about the private dining options for special occasions while sampling items from their new bar menue as well as their lunch and dinner menu.&nbsp\;Bring plenty of business cards for networking and for raffle prizes. </span></div></div>
LOCATION:Di Pescara2124 Northbrook Court
UID:e.355.1248
SEQUENCE:3
DTSTAMP:20260422T140401Z
URL:https://business.northbrookchamber.org/events/details/business-after-hours-11-2009-11-19-2009-1248
END:VEVENT

END:VCALENDAR
