BEGIN:VCALENDAR
VERSION:2.0
PRODID:-//ChamberMaster//Event Calendar 2.0//EN
METHOD:PUBLISH
X-PUBLISHED-TTL:P3D
REFRESH-INTERVAL:P3D
CALSCALE:GREGORIAN
BEGIN:VEVENT
DTSTART:20081120T230000Z
DTEND:20081121T010000Z
X-MICROSOFT-CDO-ALLDAYEVENT:FALSE
SUMMARY:Business After Hours
DESCRIPTION:Enjoy signature Palm appetizers\, wine and champagne while learning more about their private dining rooms\, which are still available to host holiday functions. Bring plenty of business cards for networking and for a chance to win raffle prizes\, including gift certificates to the restaurant.
X-ALT-DESC;FMTTYPE=text/html:<p>Enjoy signature <strong>Palm</strong> appetizers\, wine and champagne while learning more about their private dining rooms\, which are still available to host holiday functions. Bring plenty of business cards for networking and for a chance to win raffle prizes\, including gift certificates to the restaurant.</p>
LOCATION:The Palm Restaurant2000 Northbrook Court
UID:e.355.743
SEQUENCE:3
DTSTAMP:20260424T151545Z
URL:https://business.northbrookchamber.org/events/details/business-after-hours-11-20-2008-743
END:VEVENT

END:VCALENDAR
