BEGIN:VCALENDAR
VERSION:2.0
PRODID:-//ChamberMaster//Event Calendar 2.0//EN
METHOD:PUBLISH
X-PUBLISHED-TTL:P3D
REFRESH-INTERVAL:P3D
CALSCALE:GREGORIAN
BEGIN:VEVENT
DTSTART:20080918T220000Z
DTEND:20080919T000000Z
X-MICROSOFT-CDO-ALLDAYEVENT:FALSE
SUMMARY:Business After Hours
DESCRIPTION:Enjoy networking at one of Northbrook's most entertaining locations -- Pinstripes - A unique bowling\, bocce bistro.  Sample the exceptional Italian American cuisine while mingling with fellow Chamber members.  Bring plenty of business cards for networking and raffles.
X-ALT-DESC;FMTTYPE=text/html:<div>Enjoy networking at one of Northbrook&rsquo\;s most entertaining locations -- Pinstripes - A unique bowling\, bocce bistro.&nbsp\; Sample the exceptional Italian American cuisine while mingling with fellow Chamber members.&nbsp\; Bring plenty of business cards for networking and raffles.</div>
LOCATION:Pinstripes1150 Willow Road
UID:e.355.742
SEQUENCE:3
DTSTAMP:20260424T175403Z
URL:https://business.northbrookchamber.org/events/details/business-after-hours-09-18-2008-742
END:VEVENT

END:VCALENDAR
