BEGIN:VCALENDAR
VERSION:2.0
PRODID:-//ChamberMaster//Event Calendar 2.0//EN
METHOD:PUBLISH
X-PUBLISHED-TTL:P3D
REFRESH-INTERVAL:P3D
CALSCALE:GREGORIAN
BEGIN:VEVENT
DTSTART:20080417T220000Z
DTEND:20080418T000000Z
X-MICROSOFT-CDO-ALLDAYEVENT:FALSE
SUMMARY:Business After Hours
DESCRIPTION:Enjoy an informal evening of networking at Duxler's newest north shore location which has been completely remodeled inside and out. Be sure to bring plenty of business cards for networking and raffle prizes.
X-ALT-DESC;FMTTYPE=text/html:<div><span style="font-size: 12pt">Enjoy an informal evening of networking at Duxler&rsquo\;s newest north shore location which has been completely remodeled inside and out.&nbsp\;Be sure to bring plenty of business cards for networking and raffle prizes.</span></div>
LOCATION:Duxler Complete Auto Care280 Skokie Blvd.
UID:e.355.714
SEQUENCE:3
DTSTAMP:20260424T232130Z
URL:https://business.northbrookchamber.org/events/details/business-after-hours-04-17-2008-714
END:VEVENT

END:VCALENDAR
