BEGIN:VCALENDAR
VERSION:2.0
PRODID:-//ChamberMaster//Event Calendar 2.0//EN
METHOD:PUBLISH
X-PUBLISHED-TTL:P3D
REFRESH-INTERVAL:P3D
CALSCALE:GREGORIAN
BEGIN:VEVENT
DTSTART:20090319T220000Z
DTEND:20090320T000000Z
X-MICROSOFT-CDO-ALLDAYEVENT:FALSE
SUMMARY:Business After Hours
DESCRIPTION:Enjoy an evening of networking at Cal-Sun's 2800 square foot designer showroom featuring state of the art kitchens and baths. Catering will be provided by Hel's Kitchen. Bring plenty of cards for networking and raffle prizes.
X-ALT-DESC;FMTTYPE=text/html:<div><span lang="EN"><p align="justify"><font size="2">Enjoy an evening of networking at Cal-Sun&rsquo\;s 2800 square foot designer showroom featuring state of the art kitchens and baths. Catering will be provided by Hel&rsquo\;s Kitchen. Bring plenty of cards for networking and raffle prizes.</font></p></span></div>
LOCATION:Cal-Sun Construction 3100 Dundee Rd.\, Ste. 803
UID:e.355.775
SEQUENCE:3
DTSTAMP:20260424T103457Z
URL:https://business.northbrookchamber.org/events/details/business-after-hours-03-19-2009-775
END:VEVENT

END:VCALENDAR
