BEGIN:VCALENDAR
VERSION:2.0
PRODID:-//ChamberMaster//Event Calendar 2.0//EN
METHOD:PUBLISH
X-PUBLISHED-TTL:P3D
REFRESH-INTERVAL:P3D
CALSCALE:GREGORIAN
BEGIN:VEVENT
DTSTART:20090219T230000Z
DTEND:20090220T010000Z
X-MICROSOFT-CDO-ALLDAYEVENT:FALSE
SUMMARY:Business After Hours
DESCRIPTION:Help the newest branch of the Family Institute celebrate its one year anniversary at the Northbrook location. Enjoy outstanding hospitality provided by AOK Gourmet while touring the facility and learning more about the services offered at their location. Bring plenty of business cards for a chance to win a raffle prize.
X-ALT-DESC;FMTTYPE=text/html:<div><p align="justify"><font size="2">Help the newest branch of the Family Institute celebrate its one year anniversary at the Northbrook location. Enjoy outstanding hospitality provided by AOK Gourmet while touring the facility and learning more about the services offered at their location. Bring plenty of business cards for a chance to win a raffle prize.</font></p></div>
LOCATION:The Family Institute of Northwestern University 666 Dundee Rd.\, Ste. 1501
UID:e.355.772
SEQUENCE:3
DTSTAMP:20260424T113611Z
URL:https://business.northbrookchamber.org/events/details/business-after-hours-02-19-2009-772
END:VEVENT

END:VCALENDAR
