BEGIN:VCALENDAR
VERSION:2.0
PRODID:-//ChamberMaster//Event Calendar 2.0//EN
METHOD:PUBLISH
X-PUBLISHED-TTL:P3D
REFRESH-INTERVAL:P3D
CALSCALE:GREGORIAN
BEGIN:VEVENT
DTSTART:20100121T230000Z
DTEND:20100122T010000Z
X-MICROSOFT-CDO-ALLDAYEVENT:FALSE
SUMMARY:Business After Hours (01/2010)
DESCRIPTION:Start off the new year in style at this joint After Hours with the Glenview and Wheeling/Prospect Heights Chambers at the newly renovated Crowne Plaza. Learn about their 15\,000 square feet of meeting space and many hotel amenities. Bring plenty of business cards for networking and for a chance to win a raffle prize.
X-ALT-DESC;FMTTYPE=text/html:<div><span lang="EN"><p align="justify"><span style="font-size: small"><span style="font-family: Arial">Start off the new year in style at this joint After Hours with the Glenview and Wheeling/Prospect Heights Chambers at the newly renovated <strong>Crowne Plaza</strong>. Learn about their 15\,000 square feet of meeting space and many hotel amenities. Bring plenty of business cards for networking and for a chance to win a raffle prize.</span></span></p></span></div>
LOCATION:Crowne Plaza Chicago Northbrook2875 Milwaukee Ave.
UID:e.355.1256
SEQUENCE:3
DTSTAMP:20260422T113013Z
URL:https://business.northbrookchamber.org/events/details/business-after-hours-01-2010-01-21-2010-1256
END:VEVENT

END:VCALENDAR
