BEGIN:VCALENDAR
VERSION:2.0
PRODID:-//ChamberMaster//Event Calendar 2.0//EN
METHOD:PUBLISH
X-PUBLISHED-TTL:P3D
REFRESH-INTERVAL:P3D
CALSCALE:GREGORIAN
BEGIN:VEVENT
DTSTART:20090115T230000Z
DTEND:20090116T010000Z
X-MICROSOFT-CDO-ALLDAYEVENT:FALSE
SUMMARY:Business After Hours
DESCRIPTION:Check out the amenities and services offered by one of Northbrook's most important community resources as they host the first After Hours of the New Year. Enjoy catering by Sunset Foods while networking with fellow Chamber members and guests. Bring plenty of business cards for networking and for a chance to win a Y membership.
X-ALT-DESC;FMTTYPE=text/html:<p style="margin: 0in 0in 0pt"><font size="2">Check out the amenities and services offered by one of Northbrook&rsquo\;s most important community resources as they host the first After Hours of the New Year.&nbsp\;Enjoy catering by Sunset Foods while networking with fellow Chamber members and guests.&nbsp\;Bring plenty of business cards for networking and for a chance to win a Y membership.</font></p>
LOCATION:North Suburban YMCA2705 Techny
UID:e.355.767
SEQUENCE:3
DTSTAMP:20260424T125256Z
URL:https://business.northbrookchamber.org/events/details/business-after-hours-01-15-2009-767
END:VEVENT

END:VCALENDAR
