BEGIN:VCALENDAR
VERSION:2.0
PRODID:-//ChamberMaster//Event Calendar 2.0//EN
METHOD:PUBLISH
X-PUBLISHED-TTL:P3D
REFRESH-INTERVAL:P3D
CALSCALE:GREGORIAN
BEGIN:VEVENT
DTSTART:20090422T164500Z
DTEND:20090422T181500Z
X-MICROSOFT-CDO-ALLDAYEVENT:FALSE
SUMMARY:Building Your Business Networks on LinkIn
DESCRIPTION:Lunch & Learn: Building Your Business Networks on LinkIn\nFeaturing Dan Felix\, Felix GroupWednesday\, April 22\n11:15 a.m.   1:15 p.m.\nChamber office\, 2002 Walters Ave. With more than 35 million registered users\, spanning over 170 industries\, Linked In is growing in popularity daily as individuals use the site to build their professional networks. At this program\, attorney Dan Felix will explain how LinkedIn can be a part of an effective marketing and networking strategy for business owners. He will give advice and direction on starting and maintaining a profile\, and will also explain successful approaches for several key options\, including how to manage your "connections." A one-time skeptic\, converted by his own success in using Linked In for networking\, Felix will discuss how to become a LinkedIn wizard with only a small time commitment. Participants unfamiliar with the site are asked to spend 15 minutes on the site www.LinkedIn.com prior to attending the lunch.
X-ALT-DESC;FMTTYPE=text/html:<p><font size="2">Lunch &amp\; Learn: Building Your Business Networks on LinkIn<br /></font><span lang="EN"><font size="2">Featuring Dan Felix\, Felix Group</font></span></p><p align="justify"><font size="2">Wednesday\, April 22<br /></font><font size="2">11:15 a.m. &ndash\; 1:15 p.m.<br /></font><font size="2">Chamber office\, 2002 Walters Ave.</font></p><p align="justify">&nbsp\;</p><p align="justify"><font size="2">With more than 35 million registered users\, spanning over 170 industries\, Linked In is growing in popularity daily as individuals use the site to build their professional networks. At this program\, attorney Dan Felix will explain how LinkedIn can be a part of an effective marketing and networking strategy for business owners. He will give advice and direction on starting and maintaining a profile\, and will also explain successful approaches for several key options\, including how to manage your &quot\;connections.&quot\; A one-time skeptic\, converted by his own success in using Linked In for networking\, Felix will discuss how to become a LinkedIn wizard with only a small time commitment. Participants unfamiliar with the site are asked to spend 15 minutes on the site <a href="http://www.linkin.com">www.LinkedIn.com</a> prior to attending the lunch. </font></p>
LOCATION:Northbrook Chamber Office2002 Walters Ave.
UID:e.355.1147
SEQUENCE:3
DTSTAMP:20260424T092209Z
URL:https://business.northbrookchamber.org/events/details/building-your-business-networks-on-linkin-04-22-2009-1147
END:VEVENT

END:VCALENDAR
