BEGIN:VCALENDAR
VERSION:2.0
PRODID:-//ChamberMaster//Event Calendar 2.0//EN
METHOD:PUBLISH
X-PUBLISHED-TTL:P3D
REFRESH-INTERVAL:P3D
CALSCALE:GREGORIAN
BEGIN:VEVENT
DTSTART:20251022T164500Z
DTEND:20251022T181500Z
X-MICROSOFT-CDO-ALLDAYEVENT:FALSE
SUMMARY:BizHUB Networking
DESCRIPTION:Are you an entrepreneur or have a side-gig to expand? Working remotely? In a small or home based-office? In sales? Build in-person connections with the Chamber's BizHUB monthly lunch-hour meeting. Meet fellow members\, find out what they do\, and share your business!  Bring your ideas\, challenges\, questions -- and your lunch!\n\n\n\nThis month\, explore Microsoft Power BI\, a business intelligence platform that transforms raw data into meaningful\, interactive visualizations and reports. Mark Baich and Becca Goodman from Baich Consulting will introduce Power BI's value and demonstrate the core features of the program\, with a live demo using a fictitious cafe business. This presentation is perfect for small business owners in retail\, restaurant\, service\, and other sectors with no prior Power BI experience required. Join the conversation!
X-ALT-DESC;FMTTYPE=text/html:<span style="font-size: 16px\;">Are you an entrepreneur or have a side-gig to expand? Working remotely?&nbsp\;In a small or home based-office?&nbsp\;In sales?&nbsp\;Build in-person connections with the Chamber&#39\;s BizHUB monthly lunch-hour meeting.&nbsp\;</span><span style="font-size: 16px\;">Meet fellow members\, find out what they do\, and share your business!&nbsp\;&nbsp\;</span><span style="font-size: 16px\; color: var(--color-content-heading)\; font-family: var(--font-h5)\; letter-spacing: 0em\; text-align: justify\;">Bring your ideas\, challenges\, questions -- and your lunch!<br />\n<br />\nThis month\, explore Microsoft Power BI\, a business intelligence platform that transforms raw data into meaningful\, interactive visualizations and reports. Mark Baich and Becca Goodman from Baich Consulting will introduce Power BI&#39\;s value and demonstrate the core features of the program\, with a live demo using a fictitious cafe business. This presentation is perfect for small business owners in retail\, restaurant\, service\, and other sectors with no prior Power BI experience required. Join the conversation!</span>
LOCATION:Chamber Office 2002 Walters Avenue\, Northbrook
UID:e.355.4759
SEQUENCE:3
DTSTAMP:20260424T210622Z
URL:https://business.northbrookchamber.org/events/details/bizhub-networking-4759
END:VEVENT

END:VCALENDAR
