BEGIN:VCALENDAR
VERSION:2.0
PRODID:-//ChamberMaster//Event Calendar 2.0//EN
METHOD:PUBLISH
X-PUBLISHED-TTL:P3D
REFRESH-INTERVAL:P3D
CALSCALE:GREGORIAN
BEGIN:VEVENT
DTSTART:20090731T123000Z
DTEND:20090731T140000Z
X-MICROSOFT-CDO-ALLDAYEVENT:FALSE
SUMMARY:Benefit Your Bottom Line Through Disability Awareness
DESCRIPTION:People with disabilities make up 18% of our community but their needs are often misunderstood. This important customer base spends over $175 million annually. Whether you own or operate a small business or are in the corporate world\, this workshop will help you provide better customer service for this strong and loyal customer audience. Led by JJ Hanley\, trainer and award winning documentary producer\, the program will help participants learn to communicate and improve customer service to people with people with disabilities. To RSVP call (847)945-4660. Space is limited.  Sponsored by DBR Chamber\, West Deerfield and Northfield Townships.
X-ALT-DESC;FMTTYPE=text/html:<div><span lang="EN"><p align="justify"><span style="font-size: small"><span style="font-family: Arial">People with disabilities make up 18% of our community but their needs are often misunderstood. This important customer base spends over $175 million annually. Whether you own or operate a small business or are in the corporate world\, this workshop will help you provide better customer service for this strong and loyal customer audience. Led by JJ Hanley\, trainer and award winning documentary producer\, the program will help participants learn to communicate and improve customer service to people with people with disabilities. To RSVP call (847)945-4660. Space is limited.&nbsp\; Sponsored by DBR Chamber\, West Deerfield and Northfield Townships.</span></span></p></span></div>
LOCATION:Hyatt Deerfield1750 Lake Cook Rd.
UID:e.355.1227
SEQUENCE:3
DTSTAMP:20260422T193325Z
URL:https://business.northbrookchamber.org/events/details/benefit-your-bottom-line-through-disability-awareness-07-31-2009-1227
END:VEVENT

END:VCALENDAR
