BEGIN:VCALENDAR
VERSION:2.0
PRODID:-//ChamberMaster//Event Calendar 2.0//EN
METHOD:PUBLISH
X-PUBLISHED-TTL:P3D
REFRESH-INTERVAL:P3D
CALSCALE:GREGORIAN
BEGIN:VEVENT
DTSTART:20060921T123000Z
DTEND:20060921T140000Z
X-MICROSOFT-CDO-ALLDAYEVENT:FALSE
SUMMARY:Ask A Technology Expert: Technology Networking Panel
DESCRIPTION:The Chamber's Technology Networking group offers Chamber members involved in the field of technology an opportunity to meet once a month to form power partnerships and to share expertise in their field.  If you specialize in computer hardware\, software\, networking\, website creation or other technical specialty areas\, you are invited to participate in this focused networking session.  For more information or to register\, call (847)498-5555 ext.205.   (Practicioners only please)
X-ALT-DESC;FMTTYPE=text/html:The Chamber's Technology Networking group offers Chamber members involved in the field of technology an opportunity to meet once a month to form power partnerships and to share expertise in their field.  If you specialize in computer hardware\, software\, networking\, website creation or other technical specialty areas\, you are invited to participate in this focused networking session.  For more information or to register\, call (847)498-5555 ext.205.   (Practicioners only please)
LOCATION:
UID:e.355.217
SEQUENCE:3
DTSTAMP:20260425T222103Z
URL:https://business.northbrookchamber.org/events/details/ask-a-technology-expert-technology-networking-panel-09-21-2006-217
END:VEVENT

END:VCALENDAR
