BEGIN:VCALENDAR
VERSION:2.0
PRODID:-//ChamberMaster//Event Calendar 2.0//EN
METHOD:PUBLISH
X-PUBLISHED-TTL:P3D
REFRESH-INTERVAL:P3D
CALSCALE:GREGORIAN
BEGIN:VEVENT
DTSTART:20090729T220000Z
DTEND:20090730T003000Z
X-MICROSOFT-CDO-ALLDAYEVENT:FALSE
SUMMARY:Annual Softball Challenge
DESCRIPTION:Help the Northbrook Chamber continue its two year winning streak and defend its title as it takes on the DBR Chamber again at this year's annual Softball Challenge. This year marks the eighth annual event/grudge match between the two Chambers. Any and all Chamber members\, friends\, relatives\, ringers\, and minor league players are welcome to join in the fun and help improve the Northbrook Chamber's 4 win   3 loss record against DBR. Everyone will enjoy an evening of fun and camaraderie. Refreshments after the game provided at Landmark Inn\, 1352 Shermer Road. Call the Chamber office to RSVP your attendance at (847) 513-6361. In the event of rain the event will be rescheduled.
X-ALT-DESC;FMTTYPE=text/html:<div><span lang="EN"><p align="justify"><span style="font-size: small"><span style="font-family: Arial">Help the Northbrook Chamber continue its two year winning streak and defend its title as it takes on the DBR Chamber again at this year&rsquo\;s annual Softball Challenge. This year marks the eighth annual event/grudge match between the two Chambers. Any and all Chamber members\, friends\, relatives\, ringers\, and minor league players are welcome to join in the fun and help improve the Northbrook Chamber&rsquo\;s 4 win &ndash\; 3 loss record against DBR. Everyone will enjoy an evening of fun and camaraderie. Refreshments after the game provided at Landmark Inn\, 1352 Shermer Road. Call the Chamber office to RSVP your attendance at (847) 513-6361. In the event of rain the event will be rescheduled.</span></span></p></span></div>
LOCATION:Village Green Park1810 Walters AvenueNorthbrook\, IllinoisLocated at the corner of Meadow Road & Shermer RoadParking available at the park and on Shermer Road
UID:e.355.1226
SEQUENCE:3
DTSTAMP:20260422T193218Z
URL:https://business.northbrookchamber.org/events/details/annual-softball-challenge-07-29-2009-1226
END:VEVENT

END:VCALENDAR
