BEGIN:VCALENDAR
VERSION:2.0
PRODID:-//ChamberMaster//Event Calendar 2.0//EN
METHOD:PUBLISH
X-PUBLISHED-TTL:P3D
REFRESH-INTERVAL:P3D
CALSCALE:GREGORIAN
BEGIN:VEVENT
DTSTART:20080306T233000Z
DTEND:20080307T020000Z
X-MICROSOFT-CDO-ALLDAYEVENT:FALSE
SUMMARY:Annual Meeting & Dinner
DESCRIPTION:Join members for this annual celebration of the Chamber that will feature keynote speaker\, J. B. Pritzker\, the presentation of the Chamber annual business awards and the installation of the 2008 Board of Directors.J.B. Pritzker Headlines Chamber Annual Meeting \n                One of Chicago's most prominent venture capitalists\, and active proponents of a stronger technology sector focus in the Midwest region\, J.B. Pritzker will be the keynote speaker at the Chamber's annual meeting on Thursday\, March 6th at the Renaissance Chicago North Shore Hotel.    Founder of New World Ventures\, Pritzker is one of Chicago's leading early-stage technology investors\, and is also a founding board member of the Illinois Venture Capital Association\, and a founding director of the Chicagoland Entrepreneurial Center.
X-ALT-DESC;FMTTYPE=text/html:<p><font face="Times New Roman" size="3">Join members for this annual celebration of the Chamber that will feature keynote speaker\, J. B. Pritzker\, the presentation of the Chamber annual business awards and the installation of the 2008 Board of Directors.</font></p><p><strong><span style="font-size: 10pt"><font face="Times New Roman" size="3">J.B. Pritzker Headlines Chamber Annual Meeting</font></span></strong><strong><font face="Times New Roman" size="3">&nbsp\;<br /></font></strong><span style="font-size: 10pt"><font face="Times New Roman" size="3">&nbsp\;&nbsp\;&nbsp\;&nbsp\;&nbsp\;&nbsp\;&nbsp\;&nbsp\;&nbsp\;&nbsp\;&nbsp\;&nbsp\;&nbsp\;&nbsp\;&nbsp\; One of Chicago&rsquo\;s most prominent venture capitalists\, and active proponents of a stronger technology sector focus in the Midwest region\, J.B. Pritzker will be the keynote speaker at the Chamber&rsquo\;s annual meeting on Thursday\, March 6<sup>th</sup> at the Renaissance Chicago North Shore Hotel.&nbsp\;&nbsp\;&nbsp\; Founder of New World Ventures\, Pritzker is one of Chicago&rsquo\;s leading early-stage technology investors\, and is also a founding board member of the Illinois Venture Capital Association\, and a founding director of the Chicagoland Entrepreneurial Center.</font>&nbsp\;&nbsp\;&nbsp\;<br /></span></p>
LOCATION:
UID:e.355.366
SEQUENCE:3
DTSTAMP:20260425T003202Z
URL:https://business.northbrookchamber.org/events/details/annual-meeting-dinner-03-06-2008-366
END:VEVENT

END:VCALENDAR
