BEGIN:VCALENDAR
VERSION:2.0
PRODID:-//ChamberMaster//Event Calendar 2.0//EN
METHOD:PUBLISH
X-PUBLISHED-TTL:P3D
REFRESH-INTERVAL:P3D
CALSCALE:GREGORIAN
BEGIN:VEVENT
DTSTART:20090302T233000Z
DTEND:20090303T020000Z
X-MICROSOFT-CDO-ALLDAYEVENT:FALSE
SUMMARY:Annual Meeting & Dinner
DESCRIPTION:Craig Donohue\, who helped bring together Chicago's two leading commodities exchanges to form the world's largest financial market\, will be the featured speaker at the Chamber's 2009 Annual Meeting. In addition to Donohue's remarks\, the event will feature installation of the 2009 Chamber board and the presentation of the Annual Business Awards.\n   Donohue's role was key to orchestrating the historic 2007 merger between the Chicago Mercantile Exchange (CME) and the Chicago Board of Trade CBOT) to create CME Group\, now the global leader in futures and options. He also was instrumental in CME Group's 2008 acquisition of the New York Mercantile Exchange.\n   A Northbrook resident\, Donohue is an active member of a number of civic organizations\, serving as chair of the National Council on Economic Education and as a board member of the Executives' Club of Chicago and the Chicagoland Chamber of Commerce. He also serves on the Youth Services of Glenview/Northbrook's Advisory Council. \n   The Chamber is pleased to announce the recipients of the 2009 Business Awards:  Underwriters Laboratories\, Corporate Citizen of the Year\; Cal-Sun Construction\, Small Business of the Year\; Jeanine Buck\, Bank Financial\, Chamber Volunteer of the Year. \n   Recipients will be featured at the upcoming Annual Meeting along with keynote speaker Craig Donohue and the installation of the 2009 Chamber Board of Directors. In addition\, winners will be highlighted in next month's newsletter along with a feature article in the Northbrook Star.Sponsors Needed for Annual Meeting\n   A great way to feature your presence at the Annual Meeting and Dinner is to become a table or individual sponsor. Sponsors will be recognized in pre-event advertisements in the Northbrook Star and will also be listed on the event program. Sponsors will also be front and center for this important event with preferential seating. Table sponsorships are $650 and include seating for 8. Individual sponsorships are $95. To reserve your sponsorship call the Chamber at (847)498-5555.Businesses to be Honored at Annual Meeting
X-ALT-DESC;FMTTYPE=text/html:<p align="justify"><font size="2">Craig Donohue\, who helped bring together Chicago&rsquo\;s two leading commodities exchanges to form the world&rsquo\;s largest financial market\, will be the featured speaker at the Chamber&rsquo\;s 2009 Annual Meeting. In addition to Donohue&rsquo\;s remarks\, the event will feature installation of the 2009 Chamber board and the presentation of the Annual Business Awards.<br />&nbsp\;&nbsp\; Donohue&rsquo\;s role was key to orchestrating the historic 2007 merger between the Chicago Mercantile Exchange (CME) and the Chicago Board of Trade CBOT) to create CME Group\, now the global leader in futures and options. He also was instrumental in CME Group&rsquo\;s 2008 acquisition of the New York Mercantile Exchange.<br />&nbsp\;&nbsp\; A Northbrook resident\, Donohue is an active member of a number of civic organizations\, serving as chair of the National Council on Economic Education and as a board member of the Executives&rsquo\; Club of Chicago and the Chicagoland Chamber of Commerce. He also serves on the Youth Services of Glenview/Northbrook&rsquo\;s Advisory Council.&nbsp\;<br /></font><font size="2">&nbsp\;&nbsp\; The Chamber is pleased to announce the recipients of the 2009 Business Awards:&nbsp\; Underwriters Laboratories\, Corporate Citizen of the Year\; Cal-Sun Construction\, Small Business of the Year\; Jeanine Buck\, Bank Financial\, Chamber Volunteer of the Year.&nbsp\;<br />&nbsp\;&nbsp\; Recipients will be featured at the upcoming Annual Meeting&nbsp\;along with keynote speaker Craig Donohue and the installation of the 2009 Chamber Board of Directors. In addition\, winners will be highlighted in next month&rsquo\;s newsletter along with a feature article in the Northbrook Star.</font><font size="2">Sponsors Needed for Annual Meeting<br /></font><font size="2">&nbsp\;&nbsp\; A great way to feature your presence at the Annual Meeting and Dinner is to become a table or individual sponsor. Sponsors will be recognized in pre-event advertisements in the Northbrook Star and will also be listed on the event program. Sponsors will also be front and center for this important event with preferential seating.&nbsp\;</font><font size="2">Table sponsorships are $650 and include seating for 8. Individual sponsorships are $95. To reserve your sponsorship call the Chamber at (847)498-5555.</font></p><p align="left"><font size="2">Businesses to be Honored at Annual Meeting</font></p><p align="left"><font size="2">&nbsp\;</font></p>
LOCATION:Renaissance Chicago North Shore Hotel933 Skokie Blvd.
UID:e.355.770
SEQUENCE:3
DTSTAMP:20260424T103421Z
URL:https://business.northbrookchamber.org/events/details/annual-meeting-dinner-03-02-2009-770
END:VEVENT

END:VCALENDAR
