BEGIN:VCALENDAR
VERSION:2.0
PRODID:-//ChamberMaster//Event Calendar 2.0//EN
METHOD:PUBLISH
X-PUBLISHED-TTL:P3D
REFRESH-INTERVAL:P3D
CALSCALE:GREGORIAN
BEGIN:VEVENT
DTSTART:20090612T160000Z
DTEND:20090613T000000Z
X-MICROSOFT-CDO-ALLDAYEVENT:FALSE
SUMMARY:Annual Golf Outing & Dinner
DESCRIPTION:Join members and guests of the Northbrook Chamber for a fun-filled afternoon of golf and networking.  This annual best ball scramble features:- a barbecue lunch\n- golf with skill contests and prizes on every hole\n- beer\, soda and snacks on the course\n- a gourmet awards dinner with prizes for best play.  More than 175 business and civic leaders are expected for this important Chamber fundraiser.  All level of play are welcome. Bring your employees as a way of saying thanks for a job well done\, or bring a client that you want to get to know better\n\nThe Golf Outing provide execllent opportunities for you to promote you business.  Click here for a complete list of sponsorships that are available or e-mail Maggie McCurdy.
X-ALT-DESC;FMTTYPE=text/html:<p>Join members and guests of the Northbrook Chamber for a fun-filled afternoon of golf and networking.&nbsp\; This annual best ball scramble features:</p><blockquote dir="ltr" style="margin-right: 0px"><p dir="ltr" style="margin-right: 0px">- a barbecue lunch<br />- golf with skill contests and prizes on every hole<br />- beer\, soda and snacks on the course<br />- a gourmet awards dinner with prizes for best play.&nbsp\;&nbsp\;</p></blockquote><p dir="ltr" style="margin-right: 0px">More than 175 business and civic leaders are expected for this important Chamber fundraiser.&nbsp\; All level of play are welcome.&nbsp\;Bring your employees as a way of saying thanks for a job well done\, or bring a client that you want to get to know better<br /><br />The Golf Outing provide execllent opportunities for you to promote you business.&nbsp\; Click here for a complete list of <a href="https://secure.chambermaster.com/FCKeditor/UserFiles/chambers/355/File/08sponsorform.pdf">sponsorships </a>that are available or e-mail <a href="mailto:maggie@northbrookchamber.org?subject=Golf%20Outing%20Sponsorships">Maggie McCurdy</a>.</p>
LOCATION:Sportsman's Country Club 3535 Dundee Road
UID:e.355.1212
SEQUENCE:3
DTSTAMP:20260422T203907Z
URL:https://business.northbrookchamber.org/events/details/annual-golf-outing-dinner-06-12-2009-1212
END:VEVENT

END:VCALENDAR
