BEGIN:VCALENDAR
VERSION:2.0
PRODID:-//ChamberMaster//Event Calendar 2.0//EN
METHOD:PUBLISH
X-PUBLISHED-TTL:P3D
REFRESH-INTERVAL:P3D
CALSCALE:GREGORIAN
BEGIN:VEVENT
DTSTART:20081030T220000Z
DTEND:20081031T010000Z
X-MICROSOFT-CDO-ALLDAYEVENT:FALSE
SUMMARY:Annual Auction & Taste
DESCRIPTION:The Chamber signature event\, the Annual Auction & Taste\, is scheduled for Thursday\, October 30th at the Renaissance Chicago North Shore Hotel. Sponsored by Cal-Sun Construction\, this important fundraiser\, features more than 150 items up for bid in a silent and live auction\, and the North Shore's finest restaurants offering samplings. Auction highlights include a White Sox Diamond Box Suite for 18 people\, a LASIK eye surgery package\, tickets to Broadway in Chicago's production of Jersey Boys\, and array of sports tickets. The Taste of the North Shore sampling buffet will feature:Allgauer's on the Riverfront Di PescaraElegance in Meats\nFrancesca's North\nGladstone BakeryGo Roma Italian KitchenJ. Alexander'sKamehachiMarcello's\nP.F. Chang's China BistroThe Palm Restaurant\nPinstripesRenaissance Chicago North Shore HotelRuth's Chris Steakhouse\nSimply ThaiStoney River Legendary SteaksSycamore Lane WinerySunset Foods  Chamber members who wish to make a donation to the Auction or sponsor the event should contact Maggie McCurdy.
X-ALT-DESC;FMTTYPE=text/html:<p style="margin: 0in 0in 0pt"><font size="2">The Chamber signature event\, the <strong>Annual Auction &amp\; Taste</strong>\, is scheduled for <strong>Thursday\, October 30<sup>th</sup></strong> at the Renaissance Chicago North Shore Hotel.&nbsp\;Sponsored by Cal-Sun Construction\, this important fundraiser\, features<span style="font-size: 10pt\; line-height: 115%"> more than 150 items up for bid in a silent and live auction\, and the North Shore&rsquo\;s finest restaurants offering samplings.&nbsp\;Auction highlights include a White Sox Diamond Box Suite for 18 people\, a LASIK eye surgery package\, tickets to Broadway in Chicago&rsquo\;s production of Jersey Boys\, and array of sports tickets.</span></font></p><p style="margin: 0in 0in 0pt"><font size="2">&nbsp\;</font></p><p style="margin: 0in 0in 0pt"><span style="font-size: 10pt\; line-height: 115%">The Taste of the North Shore sampling buffet will feature:</span></p><p style="margin: 0in 0in 0pt"><span style="font-size: 10pt\; line-height: 115%">Allgauer&rsquo\;s on the Riverfront</span></p><p style="margin: 0in 0in 0pt">&nbsp\;</p><p style="margin: 0in 0in 0pt"><span style="font-size: 10pt\; line-height: 115%">Di Pescara</span></p><p style="margin: 0in 0in 0pt"><span style="font-size: 10pt\; line-height: 115%">Elegance in Meats<br />Francesca's North<br />Gladstone Bakery</span></p><p style="margin: 0in 0in 0pt"><span style="font-size: 10pt\; line-height: 115%">Go Roma Italian Kitchen</span></p><p style="margin: 0in 0in 0pt"><span style="font-size: 10pt\; line-height: 115%">J. Alexander&rsquo\;s</span></p><p style="margin: 0in 0in 0pt"><span style="font-size: 10pt\; line-height: 115%">Kamehachi</span></p><p style="margin: 0in 0in 0pt"><span style="font-size: 10pt\; line-height: 115%">Marcello&rsquo\;s<br />P.F. Chang's China Bistro</span></p><p style="margin: 0in 0in 0pt"><span style="font-size: 10pt\; line-height: 115%">The Palm Restaurant<br />Pinstripes</span></p><p style="margin: 0in 0in 0pt"><span style="font-size: 10pt\; line-height: 115%">Renaissance Chicago North Shore Hotel</span></p><p style="margin: 0in 0in 0pt"><span style="font-size: 10pt\; line-height: 115%">Ruth&rsquo\;s Chris Steakhouse<br />Simply Thai</span></p><p style="margin: 0in 0in 0pt"><span style="font-size: 10pt\; line-height: 115%">Stoney River Legendary Steaks</span></p><p style="margin: 0in 0in 0pt"><span style="font-size: 10pt\; line-height: 115%">Sycamore Lane Winery</span></p><p style="margin: 0in 0in 0pt"><span style="font-size: 10pt\; line-height: 115%">Sunset Foods</span></p><p style="margin: 0in 0in 0pt">&nbsp\;</p><p style="margin: 0in 0in 0pt">&nbsp\;</p><p style="margin: 0in 0in 0pt"><span style="font-size: 10pt\; line-height: 115%">Chamber members who wish to make a donation to the Auction or sponsor the event should contact <a href="mailto:maggie@northbrookchamber.org?subject=Annual%20Auction">Maggie McCurdy</a>.</span></p>
LOCATION:Renaissance Chicago North Shore Hotel 933 Skokie Blvd.
UID:e.355.755
SEQUENCE:3
DTSTAMP:20260424T163548Z
URL:https://business.northbrookchamber.org/events/details/annual-auction-taste-10-30-2008-755
END:VEVENT

END:VCALENDAR
