BEGIN:VCALENDAR
VERSION:2.0
PRODID:-//ChamberMaster//Event Calendar 2.0//EN
METHOD:PUBLISH
X-PUBLISHED-TTL:P3D
REFRESH-INTERVAL:P3D
CALSCALE:GREGORIAN
BEGIN:VEVENT
DTSTART:20091029T220000Z
DTEND:20091030T010000Z
X-MICROSOFT-CDO-ALLDAYEVENT:FALSE
SUMMARY:Annual Auction & Taste
DESCRIPTION:The Chamber signature event\, the Annual Auction & Taste\, is scheduled for Thursday\, October 29th at the Renaissance Chicago North Shore Hotel. Sponsored by Cal-Sun Construction\, this important fundraiser\, features more than 150 items up for bid in a silent and live auction\, and the North Shore's finest restaurants offering samplings. Auction highlights include a White Sox Diamond Box Suite\, a LASIK eye surgery package\, Chef Prepared Dinner\, and array of sports tickets. Click here a complete list. The Taste of the North Shore sampling buffet will feature:Allgauer's on the RiverfrontDi PescaraElegance in Meats\nFrancesca's NorthHel's Kitchen Catering\nGo Roma Italian KitchenJ. Alexander'sKamehachiMarcello's\nP.F. Chang's China Bistro\nPinstripesPizano'sRenaissance Chicago North Shore HotelRuth's Chris Steakhouse\nSimply ThaiStoney River Legendary SteaksSycamore Lane Winery Viking Cooking School & Culinary ShopWillow's/Crowne Plaza Hotel  Chamber members who wish to make a donation to the Auction or sponsor the event should contact Maggie McCurdy.
X-ALT-DESC;FMTTYPE=text/html:<p style="margin: 0in 0in 0pt"><span style="font-size: small"><span style="font-family: Arial">The Chamber signature event\, the <strong>Annual Auction &amp\; Taste</strong>\, is scheduled for <strong>Thursday\, October 29<sup>th</sup></strong> at the Renaissance Chicago North Shore Hotel.&nbsp\;Sponsored by Cal-Sun Construction\, this important fundraiser\, features<span style="line-height: 115%"> more than 150 items up for bid in a silent and live auction\, and the North Shore&rsquo\;s finest restaurants offering samplings.&nbsp\;Auction highlights include a White Sox Diamond Box Suite\, a LASIK eye surgery package\, Chef Prepared Dinner\, and array of sports tickets. Click here a </span></span></span><font size="2"><span style="line-height: 115%\; font-size: 10pt"><a href="https://secure.chambermaster.com/FCKeditor/UserFiles/chambers/355/File/Itemlist.pdf"><span style="font-size: small"><span style="font-family: Arial">complete list</span></span></a></span><span style="font-size: small"><span style="font-family: Arial"><span style="line-height: 115%">.</span></span></span></font></p><p style="margin: 0in 0in 0pt"><span style="font-size: small"><span style="font-family: Arial">&nbsp\;</span></span></p><p style="margin: 0in 0in 0pt"><span style="font-size: small"><span style="font-family: Arial"><span style="line-height: 115%">The Taste of the North Shore sampling buffet will feature:</span></span></span></p><p style="margin: 0in 0in 0pt"><span style="font-size: small"><span style="font-family: Arial"><span style="line-height: 115%">Allgauer&rsquo\;s on the Riverfront</span></span></span></p><p style="margin: 0in 0in 0pt"><span style="font-size: small"><span style="font-family: Arial"><span style="line-height: 115%">Di Pescara</span></span></span></p><p style="margin: 0in 0in 0pt"><span style="font-size: small"><span style="font-family: Arial"><span style="line-height: 115%">Elegance in Meats<br />Francesca&rsquo\;s North</span></span></span></p><p style="margin: 0in 0in 0pt"><span style="font-size: small"><span style="font-family: Arial"><span style="line-height: 115%">Hel&rsquo\;s Kitchen Catering<br /></span><span style="line-height: 115%">Go Roma Italian Kitchen</span></span></span></p><p style="margin: 0in 0in 0pt"><span style="font-size: small"><span style="font-family: Arial"><span style="line-height: 115%">J. Alexander&rsquo\;s</span></span></span></p><p style="margin: 0in 0in 0pt"><span style="font-size: small"><span style="font-family: Arial"><span style="line-height: 115%">Kamehachi</span></span></span></p><p style="margin: 0in 0in 0pt"><span style="font-size: small"><span style="font-family: Arial"><span style="line-height: 115%">Marcello&rsquo\;s<br />P.F. Chang&rsquo\;s China Bistro</span><span style="line-height: 115%"><br />Pinstripes</span></span></span></p><p style="margin: 0in 0in 0pt"><span style="font-size: small"><span style="font-family: Arial"><span style="line-height: 115%">Pizano&rsquo\;s</span></span></span></p><p style="margin: 0in 0in 0pt"><span style="font-size: small"><span style="font-family: Arial"><span style="line-height: 115%">Renaissance Chicago North Shore Hotel</span></span></span></p><p style="margin: 0in 0in 0pt"><span style="font-size: small"><span style="font-family: Arial"><span style="line-height: 115%">Ruth&rsquo\;s Chris Steakhouse<br />Simply Thai</span></span></span></p><p style="margin: 0in 0in 0pt"><span style="font-size: small"><span style="font-family: Arial"><span style="line-height: 115%">Stoney River Legendary Steaks</span></span></span></p><p style="margin: 0in 0in 0pt"><span style="font-size: small"><span style="font-family: Arial"><span style="line-height: 115%">Sycamore Lane Winery</span></span></span><span style="font-size: small"><span style="font-family: Arial">&nbsp\;</span></span></p><p style="margin: 0in 0in 0pt"><span style="font-size: small"><span style="font-family: Arial">Viking Cooking School &amp\;&nbsp\;Culinary Shop</span></span></p><p style="margin: 0in 0in 0pt"><span style="font-size: small"><span style="font-family: Arial">Willow&rsquo\;s/Crowne Plaza Hotel&nbsp\;</span></span></p><p style="margin: 0in 0in 0pt"><span style="font-size: small"><span style="font-family: Arial">&nbsp\;</span></span></p><p style="margin: 0in 0in 0pt"><span style="font-size: small"><span style="font-family: Arial"><span style="line-height: 115%">Chamber members who wish to make a donation to the Auction or sponsor the event should contact </span></span></span><span style="line-height: 115%\; font-size: 10pt"><a href="mailto:maggie@northbrookchamber.org?subject=Annual%20Auction"><span style="font-size: small"><span style="font-family: Arial">Maggie McCurdy</span></span></a></span><span style="font-size: small"><span style="font-family: Arial"><span style="line-height: 115%">.</span></span></span></p>
LOCATION:Renaissance Chicago North Shore Hotel 933 Skokie Blvd.
UID:e.355.1243
SEQUENCE:3
DTSTAMP:20260422T153941Z
URL:https://business.northbrookchamber.org/events/details/annual-auction-taste-10-29-2009-1243
END:VEVENT

END:VCALENDAR
