BEGIN:VCALENDAR
VERSION:2.0
PRODID:-//ChamberMaster//Event Calendar 2.0//EN
METHOD:PUBLISH
X-PUBLISHED-TTL:P3D
REFRESH-INTERVAL:P3D
CALSCALE:GREGORIAN
BEGIN:VEVENT
DTSTART;VALUE=DATE:20260504
DTEND;VALUE=DATE:20260505
TRANSP:TRANSPARENT
X-MICROSOFT-CDO-ALLDAYEVENT:TRUE
SUMMARY:50/50 Raffle Tickets $50 each VIP Golf Outing
DESCRIPTION:50/50 Raffle to support Evans Scholars!
X-ALT-DESC;FMTTYPE=text/html:50/50 Raffle to support Evans Scholars!&nbsp\;
LOCATION:
UID:e.355.5161
SEQUENCE:3
DTSTAMP:20260425T205416Z
URL:https://business.northbrookchamber.org/events/details/50-50-raffle-tickets-50-each-vip-golf-outing-5161
END:VEVENT

END:VCALENDAR
