BEGIN:VCALENDAR
VERSION:2.0
PRODID:-//ChamberMaster//Event Calendar 2.0//EN
METHOD:PUBLISH
X-PUBLISHED-TTL:P3D
REFRESH-INTERVAL:P3D
CALSCALE:GREGORIAN
BEGIN:VEVENT
DTSTART;VALUE=DATE:20251223
DTEND;VALUE=DATE:20251224
TRANSP:TRANSPARENT
X-MICROSOFT-CDO-ALLDAYEVENT:TRUE
SUMMARY:2026 First Friday Annual Pass
DESCRIPTION:Plan for a great year of networking with a full year of First Fridays - and save on a FF-PASS\n\n\n\nPurchase your annual First Friday Networking Breakfast PASS no later than December 23\, 2025.  You must be an active member to use.  You will pre-registered for the entire year of First Friday Networking Breakfasts at Mission Hills Club.\n\nVALUE:\n\nSave $60 annually.\n\nYou are named on all lead sheets even when you can't attend.\n\n\n\nPlease Note\n\n	Your membership renewal must be paid by January 1\, 2026.\n	No refunds or credits can be issued for missed events. You'll be on each month's Lead Sheet\, a marketing benefit that applies regardless of attendance.\n	Name substitutions within the same membership company may be requested by the Wednesday preceding the event.
X-ALT-DESC;FMTTYPE=text/html:<span style="font-size:14px\;"><span style="font-family:arial\;"><span style="font-size:18px\;"><strong>Plan for a great year of networking with a full year of First Fridays <em>- and save on a FF-PASS</em></strong></span><br />\n<br />\nPurchase your annual First Friday Networking Breakfast PASS no later than December 23\, 2025.&nbsp\; You must be an active member to use.&nbsp\; You will pre-registered for the entire year of First Friday Networking Breakfasts at Mission Hills Club.<br />\nVALUE:<br />\nSave $60 annually.<br />\nYou are named on all lead sheets even when you can&#39\;t attend.<br />\n<br />\n<strong><em>Please Note</em></strong></span></span>\n<ul>\n	<li><span style="font-size:14px\;"><span style="font-family:arial\;"><em>Your membership renewal must be paid by January 1\, 2026.</em></span></span></li>\n	<li><span style="font-size:14px\;"><span style="font-family:arial\;"><em>No refunds or credits can be issued for missed events. You&#39\;ll be on each month&#39\;s Lead Sheet\, a marketing benefit that applies&nbsp\;regardless of attendance.</em></span></span></li>\n	<li><span style="font-size:14px\;"><span style="font-family:arial\;"><em>Name substitutions within the same membership company may be requested by the Wednesday preceding the event. </em></span></span></li>\n</ul>\n<br />\n&nbsp\;
LOCATION:Mission Hills Club\, 1677 W. Mission Hills Rd.\, Northbrook
UID:e.355.4878
SEQUENCE:3
DTSTAMP:20260424T190032Z
URL:https://business.northbrookchamber.org/events/details/2026-first-friday-annual-pass-4878
END:VEVENT

END:VCALENDAR
