BEGIN:VCALENDAR
VERSION:2.0
PRODID:-//ChamberMaster//Event Calendar 2.0//EN
METHOD:PUBLISH
X-PUBLISHED-TTL:P3D
REFRESH-INTERVAL:P3D
CALSCALE:GREGORIAN
BEGIN:VEVENT
DTSTART:20100211T233000Z
DTEND:20100212T023000Z
X-MICROSOFT-CDO-ALLDAYEVENT:FALSE
SUMMARY:2010 Annual Meeting & Dinner
DESCRIPTION:Join the members of the Northbrook Chamber of Commerce for this annual celebration\, scheduled for Thursday\, February 11 at the Renaissance Chicago North Shore Hotel.  President\, Chief Executive Officer\, and founder of Wintrust Financial Corporation\, Edward J.Wehmer\, will be the keynote speaker.  The Chamber will also honor Allstate Corporation with the 2010 Corporate Citizen Award\; Korman Lederer & Associates with the Small Business of the Year\; and Andrew Vass  with the Chamber Volunteer of the Year.  The event will begin with a cocktail reception at 5:30 p.m.\, immediately followed by dinner and the presentations.
X-ALT-DESC;FMTTYPE=text/html:<div><span style="font-size: small"><span style="font-family: Arial">Join the members of the Northbrook Chamber of Commerce for this annual celebration\, scheduled for Thursday\, February 11 at the Renaissance Chicago North Shore Hotel.&nbsp\; <span lang="EN">President\, Chief Executive Officer\, and founder of Wintrust Financial Corporation\, Edward J.Wehmer\, will be the&nbsp\;keynote speaker.&nbsp\; The Chamber will also honor Allstate Corporation with the 2010 Corporate Citizen Award\; Korman Lederer &amp\; Associates with the Small Business of the Year\; and Andrew Vass&nbsp\; with the Chamber Volunteer of the Year.&nbsp\; The event will begin with a cocktail reception at 5:30 p.m.\, immediately followed by dinner and the presentations.</span></span></span></div>
LOCATION:Renaissance Chicago North Shore Hotel933 Skokie Blvd.
UID:e.355.1257
SEQUENCE:3
DTSTAMP:20260422T095453Z
URL:https://business.northbrookchamber.org/events/details/2010-annual-meeting-dinner-02-11-2010-1257
END:VEVENT

END:VCALENDAR
