BEGIN:VCALENDAR
VERSION:2.0
PRODID:-//ChamberMaster//Event Calendar 2.0//EN
METHOD:PUBLISH
X-PUBLISHED-TTL:P3D
REFRESH-INTERVAL:P3D
CALSCALE:GREGORIAN
BEGIN:VEVENT
DTSTART:20070608T160000Z
DTEND:20070609T000000Z
X-MICROSOFT-CDO-ALLDAYEVENT:FALSE
SUMMARY:2007 Golf Outing and Dinner: Golfer Registration
DESCRIPTION:Join Chamber members and their guests for a fun-filled day of golf and networking.  All levels of play are welcome.  Golf package includes barbecue lunch\, golf\, beverages and snacks on the course\, dinner and awards.
X-ALT-DESC;FMTTYPE=text/html:Join Chamber members and their guests for a fun-filled day of golf and networking.  All levels of play are welcome.  Golf package includes barbecue lunch\, golf\, beverages and snacks on the course\, dinner and awards.
LOCATION:
UID:e.355.252
SEQUENCE:3
DTSTAMP:20260425T111231Z
URL:https://business.northbrookchamber.org/events/details/2007-golf-outing-and-dinner-golfer-registration-06-08-2007-252
END:VEVENT

END:VCALENDAR
