BEGIN:VCALENDAR
VERSION:2.0
PRODID:-//ChamberMaster//Event Calendar 2.0//EN
METHOD:PUBLISH
X-PUBLISHED-TTL:P3D
REFRESH-INTERVAL:P3D
CALSCALE:GREGORIAN
BEGIN:VEVENT
DTSTART:20070608T160000Z
DTEND:20070609T000000Z
X-MICROSOFT-CDO-ALLDAYEVENT:FALSE
SUMMARY:2007 Golf Outing and Dinner: Golf Sponsorship Opportunities
DESCRIPTION:The Annual Golf Outing offers your company many ways to gain exposure and recognition with the more than 250 golfers and guests who will attend the event.  Each sponsor will receive benefits specific to the sponsorship purchased as well as the Sponsor Recognition Package which includes mentions in the Chamber newsletter  and website\, and on the event program.
X-ALT-DESC;FMTTYPE=text/html:The Annual Golf Outing offers your company many ways to gain exposure and recognition with the more than 250 golfers and guests who will attend the event.  Each sponsor will receive benefits specific to the sponsorship purchased as well as the Sponsor Recognition Package which includes mentions in the Chamber newsletter  and website\, and on the event program.
LOCATION:
UID:e.355.251
SEQUENCE:3
DTSTAMP:20260425T112058Z
URL:https://business.northbrookchamber.org/events/details/2007-golf-outing-and-dinner-golf-sponsorship-opportunities-06-08-2007-251
END:VEVENT

END:VCALENDAR
