BEGIN:VCALENDAR
VERSION:2.0
PRODID:-//ChamberMaster//Event Calendar 2.0//EN
METHOD:PUBLISH
X-PUBLISHED-TTL:P3D
REFRESH-INTERVAL:P3D
CALSCALE:GREGORIAN
BEGIN:VEVENT
DTSTART:20061030T230000Z
DTEND:20061031T020000Z
X-MICROSOFT-CDO-ALLDAYEVENT:FALSE
SUMMARY:2006 Annual Auction and Taste: 2006 Auction Sponsorships
DESCRIPTION:
X-ALT-DESC;FMTTYPE=text/html:
LOCATION:
UID:e.355.213
SEQUENCE:3
DTSTAMP:20260425T222405Z
URL:https://business.northbrookchamber.org/events/details/2006-annual-auction-and-taste-2006-auction-sponsorships-10-30-2006-213
END:VEVENT

END:VCALENDAR
