BEGIN:VCALENDAR
VERSION:2.0
PRODID:-//ChamberMaster//Event Calendar 2.0//EN
METHOD:PUBLISH
X-PUBLISHED-TTL:P3D
REFRESH-INTERVAL:P3D
CALSCALE:GREGORIAN
BEGIN:VEVENT
DTSTART:20060502T130000Z
DTEND:20060829T130000Z
X-MICROSOFT-CDO-ALLDAYEVENT:FALSE
SUMMARY:06 Golf League: League Outing 06
DESCRIPTION:
X-ALT-DESC;FMTTYPE=text/html:
LOCATION:
UID:e.355.212
SEQUENCE:3
DTSTAMP:20260425T233002Z
URL:https://business.northbrookchamber.org/events/details/06-golf-league-league-outing-06-05-02-2006-212
END:VEVENT

END:VCALENDAR
