BEGIN:VCALENDAR
VERSION:2.0
PRODID:-//ChamberMaster//Event Calendar 2.0//EN
METHOD:PUBLISH
X-PUBLISHED-TTL:P3D
REFRESH-INTERVAL:P3D
CALSCALE:GREGORIAN
BEGIN:VEVENT
DTSTART:20060915T130000Z
DTEND:20070420T130000Z
X-MICROSOFT-CDO-ALLDAYEVENT:FALSE
SUMMARY:06-07 Leadership Northbrook: 06-07 Leadership
DESCRIPTION:
X-ALT-DESC;FMTTYPE=text/html:
LOCATION:
UID:e.355.218
SEQUENCE:3
DTSTAMP:20260425T134044Z
URL:https://business.northbrookchamber.org/events/details/06-07-leadership-northbrook-06-07-leadership-09-15-2006-218
END:VEVENT

END:VCALENDAR
